BEGIN:VCALENDAR
VERSION:2.0
PRODID:-//ASG - ECPv6.15.20//NONSGML v1.0//EN
CALSCALE:GREGORIAN
METHOD:PUBLISH
X-WR-CALNAME:ASG
X-ORIGINAL-URL:https://asg-elbe.de
X-WR-CALDESC:Veranstaltungen für ASG
REFRESH-INTERVAL;VALUE=DURATION:PT1H
X-Robots-Tag:noindex
X-PUBLISHED-TTL:PT1H
BEGIN:VTIMEZONE
TZID:UTC
BEGIN:STANDARD
TZOFFSETFROM:+0000
TZOFFSETTO:+0000
TZNAME:UTC
DTSTART:20260101T000000
END:STANDARD
END:VTIMEZONE
BEGIN:VEVENT
DTSTART;TZID=UTC:20270109T150000
DTEND;TZID=UTC:20270109T220000
DTSTAMP:20260421T033008
CREATED:20230809T092219Z
LAST-MODIFIED:20260313T074202Z
UID:1113-1799506800-1799532000@asg-elbe.de
SUMMARY:Kniffeln + Skat / Grünkohl
DESCRIPTION:Grüne Stute Brietlingen\nKniffeln\nBeginn des Essens 18:00 Uhr
URL:https://asg-elbe.de/termin/kniffeln-skat-gruenkohl/
LOCATION:Grüne Stute\, Brietlingen\, Germany
END:VEVENT
END:VCALENDAR