BEGIN:VCALENDAR
VERSION:2.0
PRODID:-//ASG - ECPv6.15.20//NONSGML v1.0//EN
CALSCALE:GREGORIAN
METHOD:PUBLISH
X-ORIGINAL-URL:https://asg-elbe.de
X-WR-CALDESC:Veranstaltungen für ASG
REFRESH-INTERVAL;VALUE=DURATION:PT1H
X-Robots-Tag:noindex
X-PUBLISHED-TTL:PT1H
BEGIN:VTIMEZONE
TZID:UTC
BEGIN:STANDARD
TZOFFSETFROM:+0000
TZOFFSETTO:+0000
TZNAME:UTC
DTSTART:20250101T000000
END:STANDARD
END:VTIMEZONE
BEGIN:VEVENT
DTSTART;TZID=UTC:20260815T140000
DTEND;TZID=UTC:20260815T170000
DTSTAMP:20260420T083752
CREATED:20240224T160316Z
LAST-MODIFIED:20260313T075243Z
UID:1597-1786802400-1786813200@asg-elbe.de
SUMMARY:Schippern / Klönschnack
DESCRIPTION:Organisation – Mitglied(er)
URL:https://asg-elbe.de/termin/schippern-kloenschnack/
LOCATION:ASG Gelände
END:VEVENT
END:VCALENDAR