BEGIN:VCALENDAR
VERSION:2.0
PRODID:-//ASG - ECPv6.15.20//NONSGML v1.0//EN
CALSCALE:GREGORIAN
METHOD:PUBLISH
X-WR-CALNAME:ASG
X-ORIGINAL-URL:https://asg-elbe.de
X-WR-CALDESC:Veranstaltungen für ASG
REFRESH-INTERVAL;VALUE=DURATION:PT1H
X-Robots-Tag:noindex
X-PUBLISHED-TTL:PT1H
BEGIN:VTIMEZONE
TZID:UTC
BEGIN:STANDARD
TZOFFSETFROM:+0000
TZOFFSETTO:+0000
TZNAME:UTC
DTSTART:20250101T000000
END:STANDARD
END:VTIMEZONE
BEGIN:VEVENT
DTSTART;TZID=UTC:20260718T140000
DTEND;TZID=UTC:20260718T170000
DTSTAMP:20260420T044602
CREATED:20240224T160421Z
LAST-MODIFIED:20260313T075204Z
UID:1599-1784383200-1784394000@asg-elbe.de
SUMMARY:Schippern / Klönschnack
DESCRIPTION:Organisation – Mitglied(er)
URL:https://asg-elbe.de/termin/schippern-kloenschnack-2/
LOCATION:ASG Gelände
END:VEVENT
END:VCALENDAR